BEGIN:VCALENDAR
VERSION:2.0
PRODID:icalendar-ruby
CALSCALE:GREGORIAN
METHOD:PUBLISH
BEGIN:VEVENT
DTSTAMP:20260422T083050Z
UID:237-221955@newlifea2.org
DTSTART:20251005T180000Z
DTEND:20251005T200000Z
CLASS:PUBLIC
CREATED:20250914T125016
DESCRIPTION:Men of New Life\, please join us for our Aim men's ministry eve
 nt on Sunday\, October 5th at 2pm in the Map Room of our church building. 
 At New Life\, the character of Christ is our aim\, and our gatherings will
  focus on helping us grow as men of godly character. The letters of Aim al
 so stand for authentic inter-generational relating for men. Our hope is th
 at men of high-school age and up will come together to be inspired\, to co
 nnect inter-generationally\, and to support one another. Please join us!
LAST-MODIFIED:20250914T125016
LOCATION:1541 Washtenaw
SUMMARY:Aim Men's Ministry Gathering
URL;VALUE=URI:https://newlifea2.org/events/aim-mens-ministry-gathering--237
 /2025-10-05
ATTACH;FILENAME=AIM Graphics.jpg;FMTTYPE=image/jpeg:https://dq5pwpg1q8ru0.c
 loudfront.net/2025/09/14/16/50/15/b019ffbd-8e7e-4832-88e7-2d5a4dab7862/AIM
 %20Graphics.jpg
END:VEVENT
END:VCALENDAR
